BEGIN:VCALENDAR
VERSION:2.0
PRODID:-//Ezio and Michelle De Angelis Mediums - ECPv6.15.12.2//NONSGML v1.0//EN
CALSCALE:GREGORIAN
METHOD:PUBLISH
X-ORIGINAL-URL:https://eziodeangelis.com.au
X-WR-CALDESC:Events for Ezio and Michelle De Angelis Mediums
REFRESH-INTERVAL;VALUE=DURATION:PT1H
X-Robots-Tag:noindex
X-PUBLISHED-TTL:PT1H
BEGIN:VTIMEZONE
TZID:Australia/Sydney
BEGIN:STANDARD
TZOFFSETFROM:+1100
TZOFFSETTO:+1000
TZNAME:AEST
DTSTART:20170401T160000
END:STANDARD
BEGIN:DAYLIGHT
TZOFFSETFROM:+1000
TZOFFSETTO:+1100
TZNAME:AEDT
DTSTART:20170930T160000
END:DAYLIGHT
BEGIN:STANDARD
TZOFFSETFROM:+1100
TZOFFSETTO:+1000
TZNAME:AEST
DTSTART:20180331T160000
END:STANDARD
BEGIN:DAYLIGHT
TZOFFSETFROM:+1000
TZOFFSETTO:+1100
TZNAME:AEDT
DTSTART:20181006T160000
END:DAYLIGHT
BEGIN:STANDARD
TZOFFSETFROM:+1100
TZOFFSETTO:+1000
TZNAME:AEST
DTSTART:20190406T160000
END:STANDARD
BEGIN:DAYLIGHT
TZOFFSETFROM:+1000
TZOFFSETTO:+1100
TZNAME:AEDT
DTSTART:20191005T160000
END:DAYLIGHT
END:VTIMEZONE
BEGIN:VEVENT
DTSTART;TZID=Australia/Sydney:20180603T150000
DTEND;TZID=Australia/Sydney:20180603T163000
DTSTAMP:20260426T131817
CREATED:20180509T031240Z
LAST-MODIFIED:20180526T073120Z
UID:38791-1528038000-1528043400@eziodeangelis.com.au
SUMMARY:Merrylands RSL - Book Today 8868 7777 $40
DESCRIPTION:Tickets available from the club reception!\nOur first time at Merrylands RSL club and we cant wait to deliver messages from the spirit world with our audience. It will be a leisurely Sunday afternoon of uplifting psychic connections. A great way to spend a winter’s day. Who would you like to hear from? You never know…they just might come through.
URL:https://eziodeangelis.com.au/event/merrylands-rsl-book-today-8868-7777-40/
LOCATION:Merryland RSL Club\, 14 Military Road\, Merrylands\, New South Wales\, 2160\, Australia
ATTACH;FMTTYPE=image/jpeg:https://eziodeangelis.com.au/wp-content/uploads/2018/01/ad5c0563ee1daf71fae3edad55f7302d.jpg
END:VEVENT
END:VCALENDAR