BEGIN:VCALENDAR
VERSION:2.0
PRODID:-//Ezio and Michelle De Angelis Mediums - ECPv6.15.12.2//NONSGML v1.0//EN
CALSCALE:GREGORIAN
METHOD:PUBLISH
X-WR-CALNAME:Ezio and Michelle De Angelis Mediums
X-ORIGINAL-URL:https://eziodeangelis.com.au
X-WR-CALDESC:Events for Ezio and Michelle De Angelis Mediums
REFRESH-INTERVAL;VALUE=DURATION:PT1H
X-Robots-Tag:noindex
X-PUBLISHED-TTL:PT1H
BEGIN:VTIMEZONE
TZID:Australia/Sydney
BEGIN:STANDARD
TZOFFSETFROM:+1100
TZOFFSETTO:+1000
TZNAME:AEST
DTSTART:20170401T160000
END:STANDARD
BEGIN:DAYLIGHT
TZOFFSETFROM:+1000
TZOFFSETTO:+1100
TZNAME:AEDT
DTSTART:20170930T160000
END:DAYLIGHT
BEGIN:STANDARD
TZOFFSETFROM:+1100
TZOFFSETTO:+1000
TZNAME:AEST
DTSTART:20180331T160000
END:STANDARD
BEGIN:DAYLIGHT
TZOFFSETFROM:+1000
TZOFFSETTO:+1100
TZNAME:AEDT
DTSTART:20181006T160000
END:DAYLIGHT
BEGIN:STANDARD
TZOFFSETFROM:+1100
TZOFFSETTO:+1000
TZNAME:AEST
DTSTART:20190406T160000
END:STANDARD
BEGIN:DAYLIGHT
TZOFFSETFROM:+1000
TZOFFSETTO:+1100
TZNAME:AEDT
DTSTART:20191005T160000
END:DAYLIGHT
END:VTIMEZONE
BEGIN:VEVENT
DTSTART;TZID=Australia/Sydney:20180621T193000
DTEND;TZID=Australia/Sydney:20180621T210000
DTSTAMP:20260426T131700
CREATED:20180327T034920Z
LAST-MODIFIED:20180327T034920Z
UID:37324-1529609400-1529614800@eziodeangelis.com.au
SUMMARY:Mediums: Ezio and Michelle De Angelis - Ipswich Civic Centre
DESCRIPTION:Ezio and Michelle De Angelis are Australia’s number one husband and wife #psychic #medium team. They are bringing their outstanding psychic mediumship back to Ipswich Civic Centre. \nDescribed as Australia’s most accurate mediums\, they are acclaimed authors and teachers.  They have appeared on Channel 7’s Sunrise program and the smash hit series The One.  Ezio was voted the 2012 Australian Psychic of the Year!  Michelle was voted the 2015 Australian Psychic of the Year!  They write a popular weekly column called Psychic Insights for That’s Life Magazine. \nDue to overwhelming demand\, they return to present their amazing psychic mediumship show in Ipswich.  During their previous visits to Ipswich\, audiences were astounded by their compassion\, warmth\, accuracy and detail in delivering messages from loved ones who have crossed over. “The proof is in the detail we are able to deliver.  Communicating with Spirit is all about connecting audiences with loved ones they never expected to hear from again.  We can demonstrate that you will be reunited in the afterlife.” \n“Getting a detail message or validation from the spirit world is empowering. We all share the same human experiences and knowing that we will be reunited can give you the courage to step forth in life and give it your all.  And we all want to know that our loved ones are watching over us\, don’t we?  Of course\, we do!  Our work is all about filling those emotional gaps\, building bridges between worlds and bringing comfort.  That’s what we do…and why we do it.” \nTheir book\, Postcards from the Other Side was released in 2012 by Allen and Unwin and is still selling strongly around the country.  They recently appeared on Channel Seven’s Sunrise program for their work with a grieving family whose teenage son\, T.J. was tragically murdered. \nThis performance will be held in the\nCunningham room\nEzio De Angelis Medium
URL:https://eziodeangelis.com.au/event/mediums-ezio-and-michelle-de-angelis-ipswich-civic-centre/
LOCATION:Ipswich Civic Centre\, Cnr Limestone & Nicholas Sts\, Ipswich\, QLD\, 4305\, Australia
ATTACH;FMTTYPE=image/jpeg:https://eziodeangelis.com.au/wp-content/uploads/2018/03/6d6bc882d5bdce9050a20079aaed9119.jpg
END:VEVENT
END:VCALENDAR