BEGIN:VCALENDAR
VERSION:2.0
PRODID:-//Ezio and Michelle De Angelis Mediums - ECPv6.15.12.2//NONSGML v1.0//EN
CALSCALE:GREGORIAN
METHOD:PUBLISH
X-WR-CALNAME:Ezio and Michelle De Angelis Mediums
X-ORIGINAL-URL:https://eziodeangelis.com.au
X-WR-CALDESC:Events for Ezio and Michelle De Angelis Mediums
REFRESH-INTERVAL;VALUE=DURATION:PT1H
X-Robots-Tag:noindex
X-PUBLISHED-TTL:PT1H
BEGIN:VTIMEZONE
TZID:Australia/Sydney
BEGIN:STANDARD
TZOFFSETFROM:+1100
TZOFFSETTO:+1000
TZNAME:AEST
DTSTART:20170401T160000
END:STANDARD
BEGIN:DAYLIGHT
TZOFFSETFROM:+1000
TZOFFSETTO:+1100
TZNAME:AEDT
DTSTART:20170930T160000
END:DAYLIGHT
BEGIN:STANDARD
TZOFFSETFROM:+1100
TZOFFSETTO:+1000
TZNAME:AEST
DTSTART:20180331T160000
END:STANDARD
BEGIN:DAYLIGHT
TZOFFSETFROM:+1000
TZOFFSETTO:+1100
TZNAME:AEDT
DTSTART:20181006T160000
END:DAYLIGHT
BEGIN:STANDARD
TZOFFSETFROM:+1100
TZOFFSETTO:+1000
TZNAME:AEST
DTSTART:20190406T160000
END:STANDARD
BEGIN:DAYLIGHT
TZOFFSETFROM:+1000
TZOFFSETTO:+1100
TZNAME:AEDT
DTSTART:20191005T160000
END:DAYLIGHT
END:VTIMEZONE
BEGIN:VEVENT
DTSTART;TZID=Australia/Sydney:20180727T193000
DTEND;TZID=Australia/Sydney:20180727T210000
DTSTAMP:20260426T113430
CREATED:20180518T013957Z
LAST-MODIFIED:20180606T010220Z
UID:38873-1532719800-1532725200@eziodeangelis.com.au
SUMMARY:Penrith RSL - Mediums Ezio & Michelle De Angelis
DESCRIPTION:Buy Your Tickets From Eventbrite website Here On-Line \nDo you believe in Angels? Would you like to hear from a loved one on the other side? Then come along and meet Australia’s number one husband and wife psychic team at Penrith RSL Club on Friday 27th July at 7.30pm. With heart warming compassion and detailed accuracy\, Ezio and Michelle will connect members of the audience to their loved ones in the Spirit World. Seating is strictly limited so come along and be part of an amazing evening of real mediumship.
URL:https://eziodeangelis.com.au/event/penrith-rsl-mediums-ezio-michelle-de-angelis/
LOCATION:Penrith RSL Club\, 8 Tindale Street\, Penrith\, New South Wales\, 2750\, Australia
CATEGORIES:Upcoming Events
ATTACH;FMTTYPE=image/jpeg:https://eziodeangelis.com.au/wp-content/uploads/2017/11/532ccec86657fc4635acd2969e24d014.jpg
END:VEVENT
END:VCALENDAR