BEGIN:VCALENDAR
VERSION:2.0
PRODID:-//Ezio and Michelle De Angelis Mediums - ECPv6.15.12.2//NONSGML v1.0//EN
CALSCALE:GREGORIAN
METHOD:PUBLISH
X-ORIGINAL-URL:https://eziodeangelis.com.au
X-WR-CALDESC:Events for Ezio and Michelle De Angelis Mediums
REFRESH-INTERVAL;VALUE=DURATION:PT1H
X-Robots-Tag:noindex
X-PUBLISHED-TTL:PT1H
BEGIN:VTIMEZONE
TZID:Australia/Sydney
BEGIN:STANDARD
TZOFFSETFROM:+1100
TZOFFSETTO:+1000
TZNAME:AEST
DTSTART:20170401T160000
END:STANDARD
BEGIN:DAYLIGHT
TZOFFSETFROM:+1000
TZOFFSETTO:+1100
TZNAME:AEDT
DTSTART:20170930T160000
END:DAYLIGHT
BEGIN:STANDARD
TZOFFSETFROM:+1100
TZOFFSETTO:+1000
TZNAME:AEST
DTSTART:20180331T160000
END:STANDARD
BEGIN:DAYLIGHT
TZOFFSETFROM:+1000
TZOFFSETTO:+1100
TZNAME:AEDT
DTSTART:20181006T160000
END:DAYLIGHT
BEGIN:STANDARD
TZOFFSETFROM:+1100
TZOFFSETTO:+1000
TZNAME:AEST
DTSTART:20190406T160000
END:STANDARD
BEGIN:DAYLIGHT
TZOFFSETFROM:+1000
TZOFFSETTO:+1100
TZNAME:AEDT
DTSTART:20191005T160000
END:DAYLIGHT
END:VTIMEZONE
BEGIN:VEVENT
DTSTART;TZID=Australia/Sydney:20181115T190000
DTEND;TZID=Australia/Sydney:20181115T220000
DTSTAMP:20260426T054122
CREATED:20181008T012950Z
LAST-MODIFIED:20181008T012950Z
UID:39105-1542308400-1542319200@eziodeangelis.com.au
SUMMARY:Wests Campbelltown Fundraiser - A Better Life for Nikki!
DESCRIPTION:One night only\, a special fundraiser event for a couple that could use your help!
URL:https://eziodeangelis.com.au/event/wests-campbelltown-fundraiser-a-better-life-for-nikki/
LOCATION:Wests League Club\, 10 Old Leumeah Road\, Leumeah\, NSW\, 2560\, Australia
CATEGORIES:Upcoming Events
END:VEVENT
END:VCALENDAR