BEGIN:VCALENDAR
VERSION:2.0
PRODID:-//Ezio and Michelle De Angelis Mediums - ECPv6.15.12.2//NONSGML v1.0//EN
CALSCALE:GREGORIAN
METHOD:PUBLISH
X-WR-CALNAME:Ezio and Michelle De Angelis Mediums
X-ORIGINAL-URL:https://eziodeangelis.com.au
X-WR-CALDESC:Events for Ezio and Michelle De Angelis Mediums
REFRESH-INTERVAL;VALUE=DURATION:PT1H
X-Robots-Tag:noindex
X-PUBLISHED-TTL:PT1H
BEGIN:VTIMEZONE
TZID:Australia/Sydney
BEGIN:STANDARD
TZOFFSETFROM:+1100
TZOFFSETTO:+1000
TZNAME:AEST
DTSTART:20190406T160000
END:STANDARD
BEGIN:DAYLIGHT
TZOFFSETFROM:+1000
TZOFFSETTO:+1100
TZNAME:AEDT
DTSTART:20191005T160000
END:DAYLIGHT
BEGIN:STANDARD
TZOFFSETFROM:+1100
TZOFFSETTO:+1000
TZNAME:AEST
DTSTART:20200404T160000
END:STANDARD
BEGIN:DAYLIGHT
TZOFFSETFROM:+1000
TZOFFSETTO:+1100
TZNAME:AEDT
DTSTART:20201003T160000
END:DAYLIGHT
BEGIN:STANDARD
TZOFFSETFROM:+1100
TZOFFSETTO:+1000
TZNAME:AEST
DTSTART:20210403T160000
END:STANDARD
BEGIN:DAYLIGHT
TZOFFSETFROM:+1000
TZOFFSETTO:+1100
TZNAME:AEDT
DTSTART:20211002T160000
END:DAYLIGHT
END:VTIMEZONE
BEGIN:VEVENT
DTSTART;TZID=Australia/Sydney:20200507T193000
DTEND;TZID=Australia/Sydney:20200507T193000
DTSTAMP:20260424T224813
CREATED:20200305T231726Z
LAST-MODIFIED:20200305T231726Z
UID:39222-1588879800-1588879800@eziodeangelis.com.au
SUMMARY:Tahmoor - Michelle Live - Bookings 4681 0011
DESCRIPTION:Michelle’s back for another intimate evening of psychic and spiritual connections.
URL:https://eziodeangelis.com.au/event/tahmoor-michelle-live-bookings-4681-0011/
LOCATION:The Oopty Doop Journey\, Rose Cottage 152-156 Remembrance Drive\, Tahmoor\, NSW\, 2573\, Australia
CATEGORIES:Upcoming Events
ATTACH;FMTTYPE=image/jpeg:https://eziodeangelis.com.au/wp-content/uploads/2017/05/facebook_event_1718889268408505.jpg
END:VEVENT
END:VCALENDAR