BEGIN:VCALENDAR
VERSION:2.0
PRODID:-//Ezio and Michelle De Angelis Mediums - ECPv6.15.12.2//NONSGML v1.0//EN
CALSCALE:GREGORIAN
METHOD:PUBLISH
X-WR-CALNAME:Ezio and Michelle De Angelis Mediums
X-ORIGINAL-URL:https://eziodeangelis.com.au
X-WR-CALDESC:Events for Ezio and Michelle De Angelis Mediums
REFRESH-INTERVAL;VALUE=DURATION:PT1H
X-Robots-Tag:noindex
X-PUBLISHED-TTL:PT1H
BEGIN:VTIMEZONE
TZID:Australia/Sydney
BEGIN:STANDARD
TZOFFSETFROM:+1100
TZOFFSETTO:+1000
TZNAME:AEST
DTSTART:20230401T160000
END:STANDARD
BEGIN:DAYLIGHT
TZOFFSETFROM:+1000
TZOFFSETTO:+1100
TZNAME:AEDT
DTSTART:20230930T160000
END:DAYLIGHT
BEGIN:STANDARD
TZOFFSETFROM:+1100
TZOFFSETTO:+1000
TZNAME:AEST
DTSTART:20240406T160000
END:STANDARD
BEGIN:DAYLIGHT
TZOFFSETFROM:+1000
TZOFFSETTO:+1100
TZNAME:AEDT
DTSTART:20241005T160000
END:DAYLIGHT
BEGIN:STANDARD
TZOFFSETFROM:+1100
TZOFFSETTO:+1000
TZNAME:AEST
DTSTART:20250405T160000
END:STANDARD
BEGIN:DAYLIGHT
TZOFFSETFROM:+1000
TZOFFSETTO:+1100
TZNAME:AEDT
DTSTART:20251004T160000
END:DAYLIGHT
BEGIN:STANDARD
TZOFFSETFROM:+1100
TZOFFSETTO:+1000
TZNAME:AEST
DTSTART:20260404T160000
END:STANDARD
BEGIN:DAYLIGHT
TZOFFSETFROM:+1000
TZOFFSETTO:+1100
TZNAME:AEDT
DTSTART:20261003T160000
END:DAYLIGHT
END:VTIMEZONE
BEGIN:VEVENT
DTSTART;TZID=Australia/Sydney:20240524T193000
DTEND;TZID=Australia/Sydney:20240524T210000
DTSTAMP:20260422T050153
CREATED:20231124T215440Z
LAST-MODIFIED:20231124T215441Z
UID:39518-1716579000-1716584400@eziodeangelis.com.au
SUMMARY:Dubbo RSL - Ezio & Michelle De Angelis Mediums
DESCRIPTION:Connections to the other-side. Real connections to your loved ones in Spirit. Delivered live to the audience by Australia’s number one husband and wife psychic team.
URL:https://eziodeangelis.com.au/event/connections-to-the-other-side-https-dubborsl-sales-ticketsearch-com-sales-salesevent-117032/
LOCATION:Dubbo RSL Club Resort\, 73 Wingewarra St\, Dubbo\, NSW\, 2830\, Australia
CATEGORIES:Upcoming Events
ATTACH;FMTTYPE=image/jpeg:https://eziodeangelis.com.au/wp-content/uploads/2018/01/abb25600ad3c87a269a5fe0931bea485.jpg
END:VEVENT
BEGIN:VEVENT
DTSTART;TZID=Australia/Sydney:20240525T193000
DTEND;TZID=Australia/Sydney:20240525T210000
DTSTAMP:20260422T050153
CREATED:20240116T233835Z
LAST-MODIFIED:20240116T233835Z
UID:39528-1716665400-1716670800@eziodeangelis.com.au
SUMMARY:Forbes - Ezio and Michelle
DESCRIPTION:Australian psychic of the year at Club Forbes
URL:https://eziodeangelis.com.au/event/forbes-ezio-and-michelle/
CATEGORIES:Upcoming Events
ATTACH;FMTTYPE=image/jpeg:https://eziodeangelis.com.au/wp-content/uploads/2018/03/75fa8e56c6c5689e9addd624889f0f17.jpg
END:VEVENT
BEGIN:VEVENT
DTSTART;TZID=Australia/Sydney:20240607T193000
DTEND;TZID=Australia/Sydney:20240607T210000
DTSTAMP:20260422T050153
CREATED:20240405T011524Z
LAST-MODIFIED:20240405T011525Z
UID:39547-1717788600-1717794000@eziodeangelis.com.au
SUMMARY:In Touch with Spirit - Revesby Workers Club
DESCRIPTION:Upstairs in the Lachlan Room 2. This is a private boutique event and not a club show. With a maximum of forty people in the audience\, you will have a great chance of receiving a message from your loved ones in spirit. You could also win a free private reading in our lucky door prize. Photo by CMP Photography. 
URL:https://eziodeangelis.com.au/event/in-touch-with-spirit-revesby-workers-club/
CATEGORIES:Upcoming Events
ATTACH;FMTTYPE=image/jpeg:https://eziodeangelis.com.au/wp-content/uploads/2024/04/Mediums-landscape-1-scaled.jpg
END:VEVENT
BEGIN:VEVENT
DTSTART;TZID=Australia/Sydney:20240621T193000
DTEND;TZID=Australia/Sydney:20240621T210000
DTSTAMP:20260422T050153
CREATED:20240414T233736Z
LAST-MODIFIED:20240414T233737Z
UID:39551-1718998200-1719003600@eziodeangelis.com.au
SUMMARY:Wests Illawarra
DESCRIPTION:https://www.stickytickets.com.au/wj3e6/ezio__michelle_de_angelis_psychic_mediums/buy-tickets
URL:https://eziodeangelis.com.au/event/wests-illawarra-2/
LOCATION:Wests Illawarra\, Hargreaves St\, Unanderra\, NSW\, 2526\, Australia
CATEGORIES:Upcoming Events
ATTACH;FMTTYPE=image/jpeg:https://eziodeangelis.com.au/wp-content/uploads/2024/04/Mediums-landscape-1-1-scaled.jpg
END:VEVENT
BEGIN:VEVENT
DTSTART;TZID=Australia/Sydney:20240925T193000
DTEND;TZID=Australia/Sydney:20240925T210000
DTSTAMP:20260422T050153
CREATED:20240504T001448Z
LAST-MODIFIED:20240830T010543Z
UID:39560-1727292600-1727298000@eziodeangelis.com.au
SUMMARY:Picton - Ezio De Angelis
DESCRIPTION:Messages from Spirit with Ezio De Angelis
URL:https://eziodeangelis.com.au/event/picton-ezio-de-angelis/
LOCATION:Antill Park Country Golf Club\, 4 Jarvisfield Road\, Picton\, 2571
CATEGORIES:Upcoming Events
ATTACH;FMTTYPE=image/jpeg:https://eziodeangelis.com.au/wp-content/uploads/2024/05/Ezio-Solo-white-shirt-and-glasses.jpg
END:VEVENT
BEGIN:VEVENT
DTSTART;TZID=Australia/Sydney:20240927T200000
DTEND;TZID=Australia/Sydney:20240927T213000
DTSTAMP:20260422T050153
CREATED:20240711T234200Z
LAST-MODIFIED:20240830T010733Z
UID:39577-1727467200-1727472600@eziodeangelis.com.au
SUMMARY:Mingara Recreation Club - Central Coast
DESCRIPTION:Because we love the Central Coast! Connections to your loved ones in the spirit world with Ezio and Michelle De Angelis Mediums is back at Mingara Recreation Club!
URL:https://eziodeangelis.com.au/event/39577/
LOCATION:Mingara Recreation Club\, 12-14 Mingara Drive\, Tumbi Umbi\, NSW\, 2261\, Australia
CATEGORIES:Upcoming Events
ATTACH;FMTTYPE=image/jpeg:https://eziodeangelis.com.au/wp-content/uploads/2024/07/Mingara-Promo-24.jpg
END:VEVENT
BEGIN:VEVENT
DTSTART;TZID=Australia/Sydney:20241025T193000
DTEND;TZID=Australia/Sydney:20241025T193000
DTSTAMP:20260422T050153
CREATED:20240430T033040Z
LAST-MODIFIED:20241021T004327Z
UID:39557-1729884600-1729884600@eziodeangelis.com.au
SUMMARY:Panania Diggers - This event is Sold Out!
DESCRIPTION:An evening of psychic and spiritual connections with Australia’s number one psychic couple\, Ezio and Michelle De Angelis at Panania Diggers.
URL:https://eziodeangelis.com.au/event/an-evening-of-psychic-and-spiritual-connections-with-australias-number-one-psychic-couple-ezio-and-michelle-de-angelis-at-panania-diggers-diggers/
LOCATION:Panania Diggers\, 28 Childs Street\, Panania\, NSW\, 2213\, Australia
CATEGORIES:Upcoming Events
ATTACH;FMTTYPE=image/jpeg:https://eziodeangelis.com.au/wp-content/uploads/2024/04/Mediums-landscape-1-1-scaled.jpg
END:VEVENT
BEGIN:VEVENT
DTSTART;TZID=Australia/Sydney:20250507T200000
DTEND;TZID=Australia/Sydney:20250507T213000
DTSTAMP:20260422T050153
CREATED:20230901T024925Z
LAST-MODIFIED:20250318T202226Z
UID:39501-1746648000-1746653400@eziodeangelis.com.au
SUMMARY:Windsor RSL Club
DESCRIPTION:Join Ezio in another fabulous night of spirit connections at Windsor RSL Club. Call 4587 6900
URL:https://eziodeangelis.com.au/event/windsor-rsl-club-2/
LOCATION:Windsor RSL\, NSW\, Australia
CATEGORIES:Upcoming Events
ATTACH;FMTTYPE=image/jpeg:https://eziodeangelis.com.au/wp-content/uploads/2022/05/Ezio-Now.jpg
END:VEVENT
BEGIN:VEVENT
DTSTART;TZID=Australia/Sydney:20250530T193000
DTEND;TZID=Australia/Sydney:20250530T210000
DTSTAMP:20260422T050153
CREATED:20240504T004846Z
LAST-MODIFIED:20250318T203920Z
UID:39563-1748633400-1748638800@eziodeangelis.com.au
SUMMARY:The Epping Club - Ezio & Michelle De Angelis
DESCRIPTION:Ezio and Michelle De Angelis are Australia’s number one psychic couple. Come along and be part of an inspiring evening of connections to the spirit world! \n 
URL:https://eziodeangelis.com.au/event/ezio-and-michelle-de-angelis-are-australias-number-one-psychic-couple-be-part-of-an-inspiring-afternoon-of-connections-to-the-spirit-world/
LOCATION:Epping Club\, Sydney\, NSW\, Australia
CATEGORIES:Upcoming Events
ATTACH;FMTTYPE=image/png:https://eziodeangelis.com.au/wp-content/uploads/2024/05/Epping-Club-2025.png
END:VEVENT
END:VCALENDAR