BEGIN:VCALENDAR
VERSION:2.0
PRODID:-//Ezio and Michelle De Angelis Mediums - ECPv6.15.12.2//NONSGML v1.0//EN
CALSCALE:GREGORIAN
METHOD:PUBLISH
X-WR-CALNAME:Ezio and Michelle De Angelis Mediums
X-ORIGINAL-URL:https://eziodeangelis.com.au
X-WR-CALDESC:Events for Ezio and Michelle De Angelis Mediums
REFRESH-INTERVAL;VALUE=DURATION:PT1H
X-Robots-Tag:noindex
X-PUBLISHED-TTL:PT1H
BEGIN:VTIMEZONE
TZID:Australia/Sydney
BEGIN:STANDARD
TZOFFSETFROM:+1100
TZOFFSETTO:+1000
TZNAME:AEST
DTSTART:20190406T160000
END:STANDARD
BEGIN:DAYLIGHT
TZOFFSETFROM:+1000
TZOFFSETTO:+1100
TZNAME:AEDT
DTSTART:20191005T160000
END:DAYLIGHT
BEGIN:STANDARD
TZOFFSETFROM:+1100
TZOFFSETTO:+1000
TZNAME:AEST
DTSTART:20200404T160000
END:STANDARD
BEGIN:DAYLIGHT
TZOFFSETFROM:+1000
TZOFFSETTO:+1100
TZNAME:AEDT
DTSTART:20201003T160000
END:DAYLIGHT
BEGIN:STANDARD
TZOFFSETFROM:+1100
TZOFFSETTO:+1000
TZNAME:AEST
DTSTART:20210403T160000
END:STANDARD
BEGIN:DAYLIGHT
TZOFFSETFROM:+1000
TZOFFSETTO:+1100
TZNAME:AEDT
DTSTART:20211002T160000
END:DAYLIGHT
END:VTIMEZONE
BEGIN:VEVENT
DTSTART;TZID=Australia/Sydney:20200206T193000
DTEND;TZID=Australia/Sydney:20200206T210000
DTSTAMP:20260425T022959
CREATED:20190912T032609Z
LAST-MODIFIED:20191205T041308Z
UID:39190-1581017400-1581022800@eziodeangelis.com.au
SUMMARY:Tahmoor - Michelle De Angelis Medium Bookings 4681 0011
DESCRIPTION:Intimate heartfelt connections\, amazing venue seating only 25 people.
URL:https://eziodeangelis.com.au/event/tahmoor-michelle-de-angelis-medium-bookings-4681-0011-2/
LOCATION:The Oopty Doop Journey\, Rose Cottage 152-156 Remembrance Drive\, Tahmoor\, NSW\, 2573\, Australia
CATEGORIES:Upcoming Events
ATTACH;FMTTYPE=image/jpeg:https://eziodeangelis.com.au/wp-content/uploads/2019/09/13892385_1171431369584787_7446454987078435044_n.jpg
END:VEVENT
BEGIN:VEVENT
DTSTART;TZID=Australia/Sydney:20200207T193000
DTEND;TZID=Australia/Sydney:20200207T210000
DTSTAMP:20260425T022959
CREATED:20190718T235210Z
LAST-MODIFIED:20191205T014902Z
UID:39181-1581103800-1581109200@eziodeangelis.com.au
SUMMARY:Woronora RSL - Ezio & Michelle Together
DESCRIPTION:Tickets are only available through this link: https://www.facebook.com/events/489474575253695/
URL:https://eziodeangelis.com.au/event/woronora-rsl-ezio-michelle-together/
LOCATION:Woronora RSL\, 118 Prince Edward Park Road\, Woronora\, New South Wales\, Australia
CATEGORIES:Upcoming Events
ATTACH;FMTTYPE=image/jpeg:https://eziodeangelis.com.au/wp-content/uploads/2018/01/bc4de6fd5c31241f6ed0f6baeaae1ee7.jpg
END:VEVENT
BEGIN:VEVENT
DTSTART;TZID=Australia/Sydney:20200221T203000
DTEND;TZID=Australia/Sydney:20200221T220000
DTSTAMP:20260425T022959
CREATED:20181116T013958Z
LAST-MODIFIED:20191205T021943Z
UID:39117-1582317000-1582322400@eziodeangelis.com.au
SUMMARY:Mingara Recreation Club - Bookings: 4349 7799
DESCRIPTION:Australia’s number one husband and wife psychic team return to the beautiful Central Coast for an inspiring evening of spiritual connections. \n“We are both looking forward to our annual Mingara show and will connect as many members of the audience to their loved ones in spirit as possible.”
URL:https://eziodeangelis.com.au/event/mingara-recreation-club-bookings4349-7799/
LOCATION:Mingara Recreation Club\, 12-14 Mingara Drive\, Tumbi Umbi\, NSW\, 2261\, Australia
CATEGORIES:Upcoming Events
ATTACH;FMTTYPE=image/jpeg:https://eziodeangelis.com.au/wp-content/uploads/2018/03/6d6bc882d5bdce9050a20079aaed9119.jpg
END:VEVENT
BEGIN:VEVENT
DTSTART;TZID=Australia/Sydney:20200222T203000
DTEND;TZID=Australia/Sydney:20200222T220000
DTSTAMP:20260425T022959
CREATED:20180327T034932Z
LAST-MODIFIED:20191205T010608Z
UID:39199-1582403400-1582408800@eziodeangelis.com.au
SUMMARY:$40 Wingham Services Club Bookings: 6553 4577
DESCRIPTION:Only $40! Back in Wingham by popular demand! Australia’s number one husband and wife psychic team. Voted Australian Psychic of the year 2012 (Ezio) and 2015 (Michelle) “Join us as we bring you closer to your loved ones in the spirit world than you ever thought possible. The two of us live on stage\, uniting our energies and abilities to make it a memorable evening of real\, inspiring mediumship.”
URL:https://eziodeangelis.com.au/event/copy-of-40-wingham-services-club-bookings-6553-4577/
LOCATION:Wingham Services Club\, 28-38 Bent St\, Wingham\, NSW\, 2429\, Australia
CATEGORIES:Upcoming Events
ATTACH;FMTTYPE=image/jpeg:https://eziodeangelis.com.au/wp-content/uploads/2018/03/75fa8e56c6c5689e9addd624889f0f17.jpg
END:VEVENT
BEGIN:VEVENT
DTSTART;TZID=Australia/Sydney:20200228T193000
DTEND;TZID=Australia/Sydney:20200228T210000
DTSTAMP:20260425T022959
CREATED:20191205T004134Z
LAST-MODIFIED:20191205T004444Z
UID:39194-1582918200-1582923600@eziodeangelis.com.au
SUMMARY:Wests Campbelltown - Ezio Book online or call 4628 4188
DESCRIPTION:My annual appearance at Wests!  Join me for an uplifting and inspiring evening of connections to your loved ones on the other side of life.
URL:https://eziodeangelis.com.au/event/wests-campbelltown-ezio/
LOCATION:Wests League Club\, 10 Old Leumeah Road\, Leumeah\, NSW\, 2560\, Australia
CATEGORIES:Upcoming Events
ATTACH;FMTTYPE=image/jpeg:https://eziodeangelis.com.au/wp-content/uploads/2017/08/facebook_event_265825730598099.jpg
END:VEVENT
END:VCALENDAR