BEGIN:VCALENDAR
VERSION:2.0
PRODID:-//Ezio and Michelle De Angelis Mediums - ECPv6.15.12.2//NONSGML v1.0//EN
CALSCALE:GREGORIAN
METHOD:PUBLISH
X-WR-CALNAME:Ezio and Michelle De Angelis Mediums
X-ORIGINAL-URL:https://eziodeangelis.com.au
X-WR-CALDESC:Events for Ezio and Michelle De Angelis Mediums
REFRESH-INTERVAL;VALUE=DURATION:PT1H
X-Robots-Tag:noindex
X-PUBLISHED-TTL:PT1H
BEGIN:VTIMEZONE
TZID:Australia/Sydney
BEGIN:STANDARD
TZOFFSETFROM:+1100
TZOFFSETTO:+1000
TZNAME:AEST
DTSTART:20200404T160000
END:STANDARD
BEGIN:DAYLIGHT
TZOFFSETFROM:+1000
TZOFFSETTO:+1100
TZNAME:AEDT
DTSTART:20201003T160000
END:DAYLIGHT
BEGIN:STANDARD
TZOFFSETFROM:+1100
TZOFFSETTO:+1000
TZNAME:AEST
DTSTART:20210403T160000
END:STANDARD
BEGIN:DAYLIGHT
TZOFFSETFROM:+1000
TZOFFSETTO:+1100
TZNAME:AEDT
DTSTART:20211002T160000
END:DAYLIGHT
BEGIN:STANDARD
TZOFFSETFROM:+1100
TZOFFSETTO:+1000
TZNAME:AEST
DTSTART:20220402T160000
END:STANDARD
BEGIN:DAYLIGHT
TZOFFSETFROM:+1000
TZOFFSETTO:+1100
TZNAME:AEDT
DTSTART:20221001T160000
END:DAYLIGHT
END:VTIMEZONE
BEGIN:VEVENT
DTSTART;TZID=Australia/Sydney:20210514T193000
DTEND;TZID=Australia/Sydney:20210514T210000
DTSTAMP:20260421T212044
CREATED:20210323T063436Z
LAST-MODIFIED:20210323T063436Z
UID:39272-1621020600-1621026000@eziodeangelis.com.au
SUMMARY:St Johns Park Bowling Club
DESCRIPTION:Michelle and Ezio De Angelis psychic mediums team up again at the fabulous St Johns Park Bowling Club on Friday 14th May to deliver psychic messages from the spirit world.
URL:https://eziodeangelis.com.au/event/st-johns-park-bowling-club-2/
LOCATION:St Johns Park Bowling Club\, 93 Edensor Road\, St Johns Park\, NSW\, 2177\, Australia
CATEGORIES:Upcoming Events
ATTACH;FMTTYPE=image/jpeg:https://eziodeangelis.com.au/wp-content/uploads/2021/03/SJPBC.jpg
END:VEVENT
END:VCALENDAR