BEGIN:VCALENDAR
VERSION:2.0
PRODID:-//Ezio and Michelle De Angelis Mediums - ECPv6.15.12.2//NONSGML v1.0//EN
CALSCALE:GREGORIAN
METHOD:PUBLISH
X-ORIGINAL-URL:https://eziodeangelis.com.au
X-WR-CALDESC:Events for Ezio and Michelle De Angelis Mediums
REFRESH-INTERVAL;VALUE=DURATION:PT1H
X-Robots-Tag:noindex
X-PUBLISHED-TTL:PT1H
BEGIN:VTIMEZONE
TZID:Australia/Sydney
BEGIN:STANDARD
TZOFFSETFROM:+1100
TZOFFSETTO:+1000
TZNAME:AEST
DTSTART:20200404T160000
END:STANDARD
BEGIN:DAYLIGHT
TZOFFSETFROM:+1000
TZOFFSETTO:+1100
TZNAME:AEDT
DTSTART:20201003T160000
END:DAYLIGHT
BEGIN:STANDARD
TZOFFSETFROM:+1100
TZOFFSETTO:+1000
TZNAME:AEST
DTSTART:20210403T160000
END:STANDARD
BEGIN:DAYLIGHT
TZOFFSETFROM:+1000
TZOFFSETTO:+1100
TZNAME:AEDT
DTSTART:20211002T160000
END:DAYLIGHT
BEGIN:STANDARD
TZOFFSETFROM:+1100
TZOFFSETTO:+1000
TZNAME:AEST
DTSTART:20220402T160000
END:STANDARD
BEGIN:DAYLIGHT
TZOFFSETFROM:+1000
TZOFFSETTO:+1100
TZNAME:AEDT
DTSTART:20221001T160000
END:DAYLIGHT
END:VTIMEZONE
BEGIN:VEVENT
DTSTART;TZID=Australia/Sydney:20210818T200000
DTEND;TZID=Australia/Sydney:20210818T213000
DTSTAMP:20260421T152709
CREATED:20210603T001149Z
LAST-MODIFIED:20210603T001149Z
UID:39291-1629316800-1629322200@eziodeangelis.com.au
SUMMARY:Windsor RSL Club
DESCRIPTION:Real psychic and spiritual connections to your loved ones in the spirit world. Ezio De Angelis Medium returns to Windsor RSL Club for another great evening!
URL:https://eziodeangelis.com.au/event/windsor-rsl-club/
CATEGORIES:Upcoming Events
ATTACH;FMTTYPE=image/jpeg:https://eziodeangelis.com.au/wp-content/uploads/2018/03/a85cb4e18cf18bc739b882f395fadd5b.jpg
END:VEVENT
BEGIN:VEVENT
DTSTART;TZID=Australia/Sydney:20210819T190000
DTEND;TZID=Australia/Sydney:20210819T203000
DTSTAMP:20260421T152709
CREATED:20210729T222647Z
LAST-MODIFIED:20210729T222647Z
UID:39304-1629399600-1629405000@eziodeangelis.com.au
SUMMARY:Zoom Spirit 21 - Online Show Thursday 19th August
DESCRIPTION:Buy your tickets online\, sit back in the safety and comfort of your own home and be part of a unique\, Covid safe event!
URL:https://eziodeangelis.com.au/event/zoom-spirit-21-online-show-thursday-19th-august/
CATEGORIES:Upcoming Events
ATTACH;FMTTYPE=image/jpeg:https://eziodeangelis.com.au/wp-content/uploads/2018/03/75fa8e56c6c5689e9addd624889f0f17.jpg
END:VEVENT
BEGIN:VEVENT
DTSTART;TZID=Australia/Sydney:20210827T100000
DTEND;TZID=Australia/Sydney:20210827T113000
DTSTAMP:20260421T152709
CREATED:20210818T002306Z
LAST-MODIFIED:20210818T002307Z
UID:39317-1630058400-1630063800@eziodeangelis.com.au
SUMMARY:$10 Friday Morning Tea\, Mindful Conversation and Meditation - Online via Zoom.
DESCRIPTION:Make yourself a nice cup of tea or coffee\, enjoy a biscuit or two and Join Ezio in a 90 minute session of spirit talk\, mindful conversation and guided meditation to clear away those Covid blues.  Please note that this is not a show and I won’t be doing any readings.  Streaming live and directly into your home via the wonder that is Zoom\, my aim is to create a place for like minded souls to share in some gentle spirituality and friendship during this difficult lockdown period. Click on the Eventbrite link and buy your ticket. When you do\, you will receive a confirmation email which contains a LINK that will take you directly into the virtual world.  It’s that simple.  I hope that you can join me.
URL:https://eziodeangelis.com.au/event/10-friday-morning-tea-mindful-conversation-and-meditation-online-via-zoom/
CATEGORIES:Upcoming Events
ATTACH;FMTTYPE=image/png:https://eziodeangelis.com.au/wp-content/uploads/2021/08/Header-Image-Sequence.png
END:VEVENT
BEGIN:VEVENT
DTSTART;TZID=Australia/Sydney:20210829T140000
DTEND;TZID=Australia/Sydney:20210829T153000
DTSTAMP:20260421T152709
CREATED:20210629T220806Z
LAST-MODIFIED:20210629T220806Z
UID:39298-1630245600-1630251000@eziodeangelis.com.au
SUMMARY:Maitland Park Bowling Club - Ezio & Michelle De Angelis Mediums
DESCRIPTION:Buy your tickets and then book a table for lunch before the show. Please click on the Facebook ticketing link in this event or buy them over the counter from the club. Ezio & Michelle De Angelis Mediums present an inspiring Sunday afternoon of psychic and spiritual connections.
URL:https://eziodeangelis.com.au/event/maitland-park-bowling-club-ezio-michelle-de-angelis-mediums-sunday-afternoon-29th-august-at-2pm-40/
CATEGORIES:Upcoming Events
ATTACH;FMTTYPE=image/jpeg:https://eziodeangelis.com.au/wp-content/uploads/2018/03/75fa8e56c6c5689e9addd624889f0f17.jpg
END:VEVENT
END:VCALENDAR