BEGIN:VCALENDAR
VERSION:2.0
PRODID:-//Ezio and Michelle De Angelis Mediums - ECPv6.15.12.2//NONSGML v1.0//EN
CALSCALE:GREGORIAN
METHOD:PUBLISH
X-ORIGINAL-URL:https://eziodeangelis.com.au
X-WR-CALDESC:Events for Ezio and Michelle De Angelis Mediums
REFRESH-INTERVAL;VALUE=DURATION:PT1H
X-Robots-Tag:noindex
X-PUBLISHED-TTL:PT1H
BEGIN:VTIMEZONE
TZID:Australia/Sydney
BEGIN:STANDARD
TZOFFSETFROM:+1100
TZOFFSETTO:+1000
TZNAME:AEST
DTSTART:20210403T160000
END:STANDARD
BEGIN:DAYLIGHT
TZOFFSETFROM:+1000
TZOFFSETTO:+1100
TZNAME:AEDT
DTSTART:20211002T160000
END:DAYLIGHT
BEGIN:STANDARD
TZOFFSETFROM:+1100
TZOFFSETTO:+1000
TZNAME:AEST
DTSTART:20220402T160000
END:STANDARD
BEGIN:DAYLIGHT
TZOFFSETFROM:+1000
TZOFFSETTO:+1100
TZNAME:AEDT
DTSTART:20221001T160000
END:DAYLIGHT
BEGIN:STANDARD
TZOFFSETFROM:+1100
TZOFFSETTO:+1000
TZNAME:AEST
DTSTART:20230401T160000
END:STANDARD
BEGIN:DAYLIGHT
TZOFFSETFROM:+1000
TZOFFSETTO:+1100
TZNAME:AEDT
DTSTART:20230930T160000
END:DAYLIGHT
END:VTIMEZONE
BEGIN:VEVENT
DTSTART;TZID=Australia/Sydney:20220202T193000
DTEND;TZID=Australia/Sydney:20220202T210000
DTSTAMP:20260421T035753
CREATED:20211201T225136Z
LAST-MODIFIED:20211201T225137Z
UID:39340-1643830200-1643835600@eziodeangelis.com.au
SUMMARY:Picton Golf Club Book: Today 4677 1512  $40
DESCRIPTION:Join me at Picton Golf Club for my first live Messages from Spirit appearance in 2022. \n 
URL:https://eziodeangelis.com.au/event/please-call-picton-golf-club-to-book-today-on-4677-1512-40-to-be-part-of-an-uplifting-inspiring-and-enlightening-evening-of-real-messages-from-your-loved-ones-in-the-spirit-world/
CATEGORIES:Upcoming Events
ATTACH;FMTTYPE=image/jpeg:https://eziodeangelis.com.au/wp-content/uploads/2018/02/0dbb68f2a9225d27fc97f710d3ce1473.jpg
END:VEVENT
BEGIN:VEVENT
DTSTART;TZID=Australia/Sydney:20220223T200000
DTEND;TZID=Australia/Sydney:20220223T213000
DTSTAMP:20260421T035753
CREATED:20211215T200253Z
LAST-MODIFIED:20211215T200754Z
UID:39347-1645646400-1645651800@eziodeangelis.com.au
SUMMARY:Windsor RSL Club. Bookings: 4587 6900
DESCRIPTION:Valid tickets purchased for the 2021 show cancelled due to Covid 19\, will be accepted at this event. Please check with the club if you need clarification.  New tickets can be purchased online or through the club’s reception.
URL:https://eziodeangelis.com.au/event/windsor-rsl-bookings-4587-6900/
CATEGORIES:Upcoming Events
ATTACH;FMTTYPE=image/jpeg:https://eziodeangelis.com.au/wp-content/uploads/2018/02/0dbb68f2a9225d27fc97f710d3ce1473.jpg
END:VEVENT
END:VCALENDAR