BEGIN:VCALENDAR
VERSION:2.0
PRODID:-//Ezio and Michelle De Angelis Mediums - ECPv6.15.12.2//NONSGML v1.0//EN
CALSCALE:GREGORIAN
METHOD:PUBLISH
X-WR-CALNAME:Ezio and Michelle De Angelis Mediums
X-ORIGINAL-URL:https://eziodeangelis.com.au
X-WR-CALDESC:Events for Ezio and Michelle De Angelis Mediums
REFRESH-INTERVAL;VALUE=DURATION:PT1H
X-Robots-Tag:noindex
X-PUBLISHED-TTL:PT1H
BEGIN:VTIMEZONE
TZID:Australia/Sydney
BEGIN:STANDARD
TZOFFSETFROM:+1100
TZOFFSETTO:+1000
TZNAME:AEST
DTSTART:20200404T160000
END:STANDARD
BEGIN:DAYLIGHT
TZOFFSETFROM:+1000
TZOFFSETTO:+1100
TZNAME:AEDT
DTSTART:20201003T160000
END:DAYLIGHT
BEGIN:STANDARD
TZOFFSETFROM:+1100
TZOFFSETTO:+1000
TZNAME:AEST
DTSTART:20210403T160000
END:STANDARD
BEGIN:DAYLIGHT
TZOFFSETFROM:+1000
TZOFFSETTO:+1100
TZNAME:AEDT
DTSTART:20211002T160000
END:DAYLIGHT
BEGIN:STANDARD
TZOFFSETFROM:+1100
TZOFFSETTO:+1000
TZNAME:AEST
DTSTART:20220402T160000
END:STANDARD
BEGIN:DAYLIGHT
TZOFFSETFROM:+1000
TZOFFSETTO:+1100
TZNAME:AEDT
DTSTART:20221001T160000
END:DAYLIGHT
END:VTIMEZONE
BEGIN:VEVENT
DTSTART;TZID=Australia/Sydney:20210324T193000
DTEND;TZID=Australia/Sydney:20210324T210000
DTSTAMP:20260421T081747
CREATED:20210310T224319Z
LAST-MODIFIED:20210310T224320Z
UID:39259-1616614200-1616619600@eziodeangelis.com.au
SUMMARY:Antill Country Golf Club Picton - Book Today 4677 1512
DESCRIPTION:Psychic Messages from Spirit! Get a psychic message from your loved one in the spirit world. Join Ezio De Angelis Medium in an intimate evening of real mediumship. Our seating arrangements are covid safe\, which means you have a great chance of receiving a spiritual or psychic message.  Tickets are $40 per person. Call Antill Park Country Golf Club today to book your seats.
URL:https://eziodeangelis.com.au/event/antill-country-golf-club-picton-book-today-4677-1512/
LOCATION:Antill Park Country Golf Club\, 4 Jarvisfield Road\, Picton\, NSW\, 2571\, Australia
CATEGORIES:Upcoming Events
ATTACH;FMTTYPE=image/jpeg:https://eziodeangelis.com.au/wp-content/uploads/2018/02/0dbb68f2a9225d27fc97f710d3ce1473.jpg
END:VEVENT
END:VCALENDAR