BEGIN:VCALENDAR
VERSION:2.0
PRODID:-//Ezio and Michelle De Angelis Mediums - ECPv6.15.12.2//NONSGML v1.0//EN
CALSCALE:GREGORIAN
METHOD:PUBLISH
X-WR-CALNAME:Ezio and Michelle De Angelis Mediums
X-ORIGINAL-URL:https://eziodeangelis.com.au
X-WR-CALDESC:Events for Ezio and Michelle De Angelis Mediums
REFRESH-INTERVAL;VALUE=DURATION:PT1H
X-Robots-Tag:noindex
X-PUBLISHED-TTL:PT1H
BEGIN:VTIMEZONE
TZID:Australia/Sydney
BEGIN:STANDARD
TZOFFSETFROM:+1100
TZOFFSETTO:+1000
TZNAME:AEST
DTSTART:20200404T160000
END:STANDARD
BEGIN:DAYLIGHT
TZOFFSETFROM:+1000
TZOFFSETTO:+1100
TZNAME:AEDT
DTSTART:20201003T160000
END:DAYLIGHT
BEGIN:STANDARD
TZOFFSETFROM:+1100
TZOFFSETTO:+1000
TZNAME:AEST
DTSTART:20210403T160000
END:STANDARD
BEGIN:DAYLIGHT
TZOFFSETFROM:+1000
TZOFFSETTO:+1100
TZNAME:AEDT
DTSTART:20211002T160000
END:DAYLIGHT
BEGIN:STANDARD
TZOFFSETFROM:+1100
TZOFFSETTO:+1000
TZNAME:AEST
DTSTART:20220402T160000
END:STANDARD
BEGIN:DAYLIGHT
TZOFFSETFROM:+1000
TZOFFSETTO:+1100
TZNAME:AEDT
DTSTART:20221001T160000
END:DAYLIGHT
END:VTIMEZONE
BEGIN:VEVENT
DTSTART;TZID=Australia/Sydney:20210618T200000
DTEND;TZID=Australia/Sydney:20210618T213000
DTSTAMP:20260421T024308
CREATED:20210223T021334Z
LAST-MODIFIED:20210315T204620Z
UID:39252-1624046400-1624051800@eziodeangelis.com.au
SUMMARY:Wests Illawarra - Ezio & Michelle De Angelis
DESCRIPTION:Join Ezio and Michelle De Angelis Mediums for an inspiring\, uplifting and soul moving evening of messages from the other side!  In June\, we’re heading back your way for an evening of psychic and spiritual connections to your loved ones on the other side! Tickets are only $39 per person. \n 
URL:https://eziodeangelis.com.au/event/wests-illawarra-night-mediums/
LOCATION:Wests Illawarra\, Hargreaves St\, Unanderra\, NSW\, 2526\, Australia
CATEGORIES:Upcoming Events
ATTACH;FMTTYPE=image/jpeg:https://eziodeangelis.com.au/wp-content/uploads/2021/02/WSLC-Ezio-Michelle-Collateral-Pack-update-J0027523-PlasmaV-Proof2201.jpg
END:VEVENT
END:VCALENDAR