BEGIN:VCALENDAR
VERSION:2.0
PRODID:-//Ezio and Michelle De Angelis Mediums - ECPv6.15.12.2//NONSGML v1.0//EN
CALSCALE:GREGORIAN
METHOD:PUBLISH
X-ORIGINAL-URL:https://eziodeangelis.com.au
X-WR-CALDESC:Events for Ezio and Michelle De Angelis Mediums
REFRESH-INTERVAL;VALUE=DURATION:PT1H
X-Robots-Tag:noindex
X-PUBLISHED-TTL:PT1H
BEGIN:VTIMEZONE
TZID:Australia/Sydney
BEGIN:STANDARD
TZOFFSETFROM:+1100
TZOFFSETTO:+1000
TZNAME:AEST
DTSTART:20210403T160000
END:STANDARD
BEGIN:DAYLIGHT
TZOFFSETFROM:+1000
TZOFFSETTO:+1100
TZNAME:AEDT
DTSTART:20211002T160000
END:DAYLIGHT
BEGIN:STANDARD
TZOFFSETFROM:+1100
TZOFFSETTO:+1000
TZNAME:AEST
DTSTART:20220402T160000
END:STANDARD
BEGIN:DAYLIGHT
TZOFFSETFROM:+1000
TZOFFSETTO:+1100
TZNAME:AEDT
DTSTART:20221001T160000
END:DAYLIGHT
BEGIN:STANDARD
TZOFFSETFROM:+1100
TZOFFSETTO:+1000
TZNAME:AEST
DTSTART:20230401T160000
END:STANDARD
BEGIN:DAYLIGHT
TZOFFSETFROM:+1000
TZOFFSETTO:+1100
TZNAME:AEDT
DTSTART:20230930T160000
END:DAYLIGHT
END:VTIMEZONE
BEGIN:VEVENT
DTSTART;TZID=Australia/Sydney:20220615T200000
DTEND;TZID=Australia/Sydney:20220615T213000
DTSTAMP:20260420T065330
CREATED:20220520T050249Z
LAST-MODIFIED:20220520T050249Z
UID:39399-1655323200-1655328600@eziodeangelis.com.au
SUMMARY:Windsor RSL Charity Event - Hawkesbury Flood Relief Fund
DESCRIPTION:Psychic Medium at Windsor \nWindsor RSL and the people living in the surrounding area have been good to me over the years. \nSo when I saw the news reports where so many locals lost everything due to back to back floods over the past few years\, I wanted to help. \nSo\, I am donating all the ticketing proceeds to the Hawkesbury Flood Relief Fund \n“I will still be connecting to loved ones in the Spirit World and passing their messages to lucky audience members. \nMy intention is to provide evidence that the souls of our loved ones not only survived the journey in spirit\, but that they still take an active interest in the lives of those they left behind. This is my mission as a medium. \nNow\, you might think that such an event might be boring or sad yet it’s not!  There’s laughter\, humour and above all else…Love. That’s my real message: Love never dies…and neither do the people we share our lives with.” \n“Whether on stage or in a private one on one session\, I always strive to be an accurate and detailed messenger. Of course\, it’s not as literal a form of communication as standing next to a family member or friend and having a chat. But it’s the next best thing. \nCommunicating with Spirit is always an experiment because some spirits are great communicators and others aren’t. \nAll you need to do is to come along with an open heart and an open mind.  And in coming along\, you’ll be helping the good folk of the Hawkesbury too. \n 
URL:https://eziodeangelis.com.au/event/psychic-medium-at-windsor-rsl-hawkesbury-flood-charity-event/
LOCATION:Windsor Rsl\, Argyle Street\, Windsor\, 2756
CATEGORIES:Upcoming Events
ATTACH;FMTTYPE=image/jpeg:https://eziodeangelis.com.au/wp-content/uploads/2017/08/facebook_event_265825730598099.jpg
END:VEVENT
END:VCALENDAR